BEGIN:VCALENDAR
VERSION:2.0
PRODID:-//Department of Civil &amp; Mineral Engineering - ECPv6.15.20//NONSGML v1.0//EN
CALSCALE:GREGORIAN
METHOD:PUBLISH
X-WR-CALNAME:Department of Civil &amp; Mineral Engineering
X-ORIGINAL-URL:https://civmin.utoronto.ca
X-WR-CALDESC:Events for Department of Civil &amp; Mineral Engineering
REFRESH-INTERVAL;VALUE=DURATION:PT1H
X-Robots-Tag:noindex
X-PUBLISHED-TTL:PT1H
BEGIN:VTIMEZONE
TZID:America/Toronto
BEGIN:DAYLIGHT
TZOFFSETFROM:-0500
TZOFFSETTO:-0400
TZNAME:EDT
DTSTART:20250309T070000
END:DAYLIGHT
BEGIN:STANDARD
TZOFFSETFROM:-0400
TZOFFSETTO:-0500
TZNAME:EST
DTSTART:20251102T060000
END:STANDARD
BEGIN:DAYLIGHT
TZOFFSETFROM:-0500
TZOFFSETTO:-0400
TZNAME:EDT
DTSTART:20260308T070000
END:DAYLIGHT
BEGIN:STANDARD
TZOFFSETFROM:-0400
TZOFFSETTO:-0500
TZNAME:EST
DTSTART:20261101T060000
END:STANDARD
BEGIN:DAYLIGHT
TZOFFSETFROM:-0500
TZOFFSETTO:-0400
TZNAME:EDT
DTSTART:20270314T070000
END:DAYLIGHT
BEGIN:STANDARD
TZOFFSETFROM:-0400
TZOFFSETTO:-0500
TZNAME:EST
DTSTART:20271107T060000
END:STANDARD
END:VTIMEZONE
BEGIN:VEVENT
DTSTART;TZID=America/Toronto:20260401T130000
DTEND;TZID=America/Toronto:20260401T143000
DTSTAMP:20260420T190627
CREATED:20260327T151734Z
LAST-MODIFIED:20260330T130558Z
UID:46030-1775048400-1775053800@civmin.utoronto.ca
SUMMARY:MASc Thesis Presentation by Andrew Vigars
DESCRIPTION:Andrew Vigars\nMethanotrophic Zonation Under CH4:DO Niches During Summer Stratification in an Oil Sands Pit Lake (MASc Thesis Presentation)\nCandidate: Andrew Vigars\nSupervisor: Professor Lesley Warren\nWednesday\, April 1\, 2026 at 1 p.m.\nJoin via Teams: https://teams.microsoft.com/meet/22279129499781?p=Uk9J5MYI16r2NpHDyS\nMeeting ID: 222 791 294 997 81       Meeting Passcode: hr6SK9Gt
URL:https://civmin.utoronto.ca/event/masc-thesis-presentation-by-andrew-vigars/
CATEGORIES:Events,Featured
END:VEVENT
BEGIN:VEVENT
DTSTART;TZID=America/Toronto:20260401T180000
DTEND;TZID=America/Toronto:20260401T193000
DTSTAMP:20260420T190627
CREATED:20260330T152817Z
LAST-MODIFIED:20260330T152817Z
UID:46040-1775066400-1775071800@civmin.utoronto.ca
SUMMARY:Clarifying the Path to Becoming a P.Eng. in Ontario
DESCRIPTION:Clarifying the Path to Becoming a P.Eng. in Ontario\nToronto Section\nCanadian Society for Civil Engineering (CSCE)\nWednesday\, April 1\, 2026 at 6 p.m via Zoom \nMore info & registration \nThis session will provide you with an introduction to Professional Engineers Ontario. Through the Professional Engineers Act\, PEO governs license and certificate holders and regulates professional engineering in Ontario to serve and protect the public. If you are interested in pursuing your engineering license after graduation and becoming a P.Eng.\, this presentation is for you.\nOpen to undergraduate students and graduate students.
URL:https://civmin.utoronto.ca/event/clarifying-the-path-to-becoming-a-p-eng-in-ontario/
CATEGORIES:Events,Featured
END:VEVENT
BEGIN:VEVENT
DTSTART;TZID=America/Toronto:20260402T090000
DTEND;TZID=America/Toronto:20260402T100000
DTSTAMP:20260420T190627
CREATED:20260325T211913Z
LAST-MODIFIED:20260401T203346Z
UID:45999-1775120400-1775124000@civmin.utoronto.ca
SUMMARY:Mastering Admissions in Civil & Mineral Engineering: Application Strategies & Tips
DESCRIPTION:Thursday\, April 2\, 2026 09:00 AM (ET)\nLive Online Session via Zoom\nJoin the CivMin Admissions Team for this engaging presentation outlining tips and strategies to help you submit an MEng or MEngCEM application with confidence! The presentation will be followed by a Q&A session where you can ask all your application-related questions. \nRegister now to receive the Zoom link and secure your spot\nWhether you’re interested in a professional program such as the Master of Engineering (MEng)\, or Master of Engineering in Cities Engineering & Management (MEngCEM)\, the Department of Civil & Mineral Engineering at U of T can supercharge your career! \nOur professional Master’s programs offer exciting courses\, dynamic hands-on learning through projects and practicums and provide endless opportunities to expand your expertise and fast-track your career journey. Students can customize their MEng program to align with their passions by choosing one or more optional areas of emphasis: \n\nBuilding Science \nGeotechnical Engineering\nConcrete \nTransportation Engineering & Planning \nConstruction Management \nStructural Engineering \nEnvironmental Engineering \nSustainable Urban Systems \nAdvanced Water Technologies\nData Analytics & Machine Learning\nEngineering Globalization\nEntrepreneurship\, Leadership\, Innovation & Technology in Engineering (ELITE)\nForensic Engineering\nNuclear Engineering
URL:https://civmin.utoronto.ca/event/mastering-admissions-in-civil-mineral-engineering-application-strategies-tips-2/
CATEGORIES:Events
END:VEVENT
BEGIN:VEVENT
DTSTART;TZID=America/Toronto:20260406T130000
DTEND;TZID=America/Toronto:20260406T143000
DTSTAMP:20260420T190627
CREATED:20260401T135125Z
LAST-MODIFIED:20260401T135125Z
UID:46081-1775480400-1775485800@civmin.utoronto.ca
SUMMARY:MASc Thesis Presentation by Sepehr Javidan
DESCRIPTION:Investigation of Post-Tensioned Low-Strength Concrete Slabs (MASc Thesis Presentation)\nCandidate: Sepehr Javidan\nSupervisor: Professor Evan Bentz\n\nMonday\, April 6\, 2026 at 1 p.m.\nLocation: SF1009 – Sandford Fleming Building
URL:https://civmin.utoronto.ca/event/masc-thesis-presentation-by-sepehr-javidan/
CATEGORIES:Events,Featured
END:VEVENT
BEGIN:VEVENT
DTSTART;TZID=America/Toronto:20260416T110000
DTEND;TZID=America/Toronto:20260416T113000
DTSTAMP:20260420T190627
CREATED:20260410T150454Z
LAST-MODIFIED:20260410T150454Z
UID:46181-1776337200-1776339000@civmin.utoronto.ca
SUMMARY:Designing for Wind: Experimental and Computational Approaches to Climate Resilient Architecture
DESCRIPTION:DESIGNING FOR WIND: \nExperimental and Computational Approaches to Climate Resilient Architecture\n  \nApril 16 at 11 a.m.\nBoardroom – ES 1016B\,\nEarth Sciences Centre (33 Willcocks St. entrance) \n  \nSpeaker: Dr. Girma Bitsuamlak\,\nProfessor at Western University\nDirector of the WindEEE Research Facility\n\nDr. Girma Bitsuamlak is a building engineer whose work bridges advanced simulation and large scale experimentation to improve the climate resilience and performance of buildings and urban environments.\n\nHe is a Professor at Western University and Director of the WindEEE Research Facility\, and site leader for SHARCNET advanced research computing. His research integrates high fidelity computational fluid dynamics (CFD) and artificial intelligence with full scale and laboratory based experimental testing to study complex wind phenomena\, including hurricanes\, tornadoes\, and downbursts. He has developed predictive simulation frameworks that model turbulent airflow\, aerodynamics\, and heat transfer\, enabling detailed assessment of wind loads\, natural ventilation\, and urban microclimates.\n\nApril 16 @ 11.00 AM Boardroom ES 1016B\nEarth Sciences Centre (near the 33 Willcocks Street entrance}
URL:https://civmin.utoronto.ca/event/designing-for-wind-experimental-and-computational-approaches-to-climate-resilient-architecture/
LOCATION:Earth Sciences Building\, ES 1016B
CATEGORIES:Events,Featured
END:VEVENT
BEGIN:VEVENT
DTSTART;TZID=America/Toronto:20260416T183000
DTEND;TZID=America/Toronto:20260416T200000
DTSTAMP:20260420T190627
CREATED:20260414T151827Z
LAST-MODIFIED:20260414T151827Z
UID:46213-1776364200-1776369600@civmin.utoronto.ca
SUMMARY:When AI Takes the Wheel - AI in Transportation & Urban Intelligence
DESCRIPTION:When AI Takes the Wheel – AI in Transportation & Urban Intelligence\nThursday\, April 16\, 2026 at 6:30 p.m. \nToronto City Hall – 100 Queen St West \n\nDescription: TTC. Traffic. Delays. We live it every day. Now imagine if the system could start to learn. Join us at Toronto City Hall\, in collaboration with the City of Toronto\, to see how AI and real data are transforming transportation\, from traffic to TTC into systems that think\, adapt\, and move in real time.\nLink: https://luma.com/aic-to-4-16
URL:https://civmin.utoronto.ca/event/when-ai-takes-the-wheel-ai-in-transportation-urban-intelligence/
CATEGORIES:Events,Featured
END:VEVENT
BEGIN:VEVENT
DTSTART;VALUE=DATE:20260420
DTEND;VALUE=DATE:20260421
DTSTAMP:20260420T190627
CREATED:20260325T154538Z
LAST-MODIFIED:20260325T154538Z
UID:45989-1776643200-1776729599@civmin.utoronto.ca
SUMMARY:DEADLINE: Lawson Climate Institute Catalyst Grant
DESCRIPTION:Lawson Climate Institute Catalyst Grant \n  \nApply by: April 20\, 2026 \nInfo session: April 8\, 2026 \nValue: $50\,000 per project over 1–2 years \nEligibility: Applications are open to faculty members at all divisions across U of T\, as well as collaborations between U of T researchers and companies\, not-for-profits and/or governments within Canada and internationally. \n\nAbout the grant: \nMeeting the complex challenges of climate change requires interdisciplinary insights and potential for impact beyond academia. Supporting research aligned with these priorities\, the Lawson Climate Institute Catalyst Grant is available in two streams: Societal Transformation and Technological Innovation. Applications are open to faculty members at all divisions across U of T\, as well as collaborations between U of T researchers and companies\, not-for-profits and/or governments within Canada and internationally. Up to $50\,000 will be awarded per project on a highly selective and competitive basis to support solutions-oriented climate research with a clear path to impact beyond academia. \n\nMore information: https://lci.utoronto.ca/apply-now-2026-27-catalyst-grant/
URL:https://civmin.utoronto.ca/event/deadline-lawson-climate-institute-catalyst-grant/
CATEGORIES:Events,Featured
END:VEVENT
BEGIN:VEVENT
DTSTART;TZID=America/Toronto:20260420T120000
DTEND;TZID=America/Toronto:20260420T130000
DTSTAMP:20260420T190627
CREATED:20260331T171120Z
LAST-MODIFIED:20260331T173505Z
UID:46062-1776686400-1776690000@civmin.utoronto.ca
SUMMARY:Guest lecture: Equitable Electric Vehicle Travel and Charging Infrastructure Planning
DESCRIPTION:Equitable Electric Vehicle Travel and Charging Infrastructure Planning\nProfessor Eleftheria Kontou\nThe Grainger College of Engineering\nCivil & Environmental Engineering\nUniversity of Illinois Urbana-Champaign \nMonday\, April 20\, 2026. Noon – 1 p.m.\nGB217 – Galbraith Building\n \n \nAbstract: Prof. Kontou will showcase insights from a novel location model for equitable electric vehicle charging infrastructure placement\, with objectives to minimize detours for charging and improve trip completion for low-income travelers and multi-unit dwelling residents\, who face shorter electric vehicle ranges and limited home charging access. Lessons learned will focus on numerical experiments that center the Illinois Interstate and Highway road network. Beyond equitable public charging placement\, Kontou will present a data-driven analysis of curbside charging placement that can augment benefits for multi-unit dwellers and renters without reliable home charging access\, highlighting a case study in San Francisco CA. \n  \nBio of Prof Kontou: Prof. Kontou is an assistant professor in the Department of Civil and Environmental Engineering at the University of Illinois Urbana-Champaign. Her research focuses on planning sustainable transportation systems. She earned her Ph.D. in Civil Engineering\, focusing on transportation systems\, from University of Florida\, and holds a M.Sc. from Virginia Tech\, and a Diploma from the National Technical University of Athens in the same field. Kontou is a National Science Foundation CAREER awardee\, an Associate Editor of the Transportation Research Part D: Transport and Environment journal\, and a member of the TRB Committee on Transportation Energy Data and Technology.
URL:https://civmin.utoronto.ca/event/guest-lecture-equitable-electric-vehicle-travel-and-charging-infrastructure-planning/
CATEGORIES:Events,Featured
END:VEVENT
BEGIN:VEVENT
DTSTART;TZID=America/Toronto:20260420T210000
DTEND;TZID=America/Toronto:20260420T220000
DTSTAMP:20260420T190627
CREATED:20260402T210705Z
LAST-MODIFIED:20260417T143512Z
UID:46120-1776718800-1776722400@civmin.utoronto.ca
SUMMARY:Online Info Session: Nuclear Engineering within the CivMin MEng
DESCRIPTION:Monday\, April 20\, 9 p.m. ET\nOnline Session via Zoom \n➡️ REGISTER here to secure your spot at the event  \nDiscover how a U of T Master of Engineering (MEng) in the Department of Civil & Mineral Engineering can prepare you for a career in Nuclear Engineering! \nJoin Associate Chair Sebastian Goodfellow and Professors Daman Panesar\, Oh-Sung Kwon\, Tamer El-Diraby & Trevor Carey to discover how this dynamic field connects with geotechnical\, structural\, concrete\, and construction engineering.  Explore  how the MEng CivMin program can prepare you to contribute to building the next generation of low-carbon\, high-impact infrastructure.
URL:https://civmin.utoronto.ca/event/online-info-session-nuclear-engineering-within-the-civmin-meng/
CATEGORIES:Events
END:VEVENT
BEGIN:VEVENT
DTSTART;TZID=America/Toronto:20260430T090000
DTEND;TZID=America/Toronto:20260430T140000
DTSTAMP:20260420T190627
CREATED:20260318T154247Z
LAST-MODIFIED:20260318T154247Z
UID:45915-1777539600-1777557600@civmin.utoronto.ca
SUMMARY:Embodied Greenhouse Gas Symposium 
DESCRIPTION:Thursday April 30\, 2026. 9 a.m.—2 p.m. EST\nDesautels Hall\, Rotman School of Management\, 105 St George St – Map\nRegister here! \nHow can Canada meet the simultaneous challenges of scaling up its infrastructure and housing to keep pace with population growth while also achieving ambitious targets for reducing greenhouse gas (GHG) emissions? \nJoin the Centre for the Sustainable Built Environment for the 3rd Embodied GHG Symposium. This half-day event will explore solutions to building more housing and infrastructure with less greenhouse gas pollution. This year talks from the lectern will discuss the transition to sustainable construction materials with a focus on steel\, concrete and wood. Website for full info
URL:https://civmin.utoronto.ca/event/embodied-greenhouse-gas-symposium/
CATEGORIES:Events,Featured
END:VEVENT
END:VCALENDAR